BEGIN:VCALENDAR
VERSION:2.0
PRODID:-//Zschornewitzer Ruderclub - ECPv6.15.20//NONSGML v1.0//EN
CALSCALE:GREGORIAN
METHOD:PUBLISH
X-WR-CALNAME:Zschornewitzer Ruderclub
X-ORIGINAL-URL:https://zrc-online.de
X-WR-CALDESC:Veranstaltungen für Zschornewitzer Ruderclub
REFRESH-INTERVAL;VALUE=DURATION:PT1H
X-Robots-Tag:noindex
X-PUBLISHED-TTL:PT1H
BEGIN:VTIMEZONE
TZID:Europe/Berlin
BEGIN:DAYLIGHT
TZOFFSETFROM:+0100
TZOFFSETTO:+0200
TZNAME:CEST
DTSTART:20250330T010000
END:DAYLIGHT
BEGIN:STANDARD
TZOFFSETFROM:+0200
TZOFFSETTO:+0100
TZNAME:CET
DTSTART:20251026T010000
END:STANDARD
BEGIN:DAYLIGHT
TZOFFSETFROM:+0100
TZOFFSETTO:+0200
TZNAME:CEST
DTSTART:20260329T010000
END:DAYLIGHT
BEGIN:STANDARD
TZOFFSETFROM:+0200
TZOFFSETTO:+0100
TZNAME:CET
DTSTART:20261025T010000
END:STANDARD
BEGIN:DAYLIGHT
TZOFFSETFROM:+0100
TZOFFSETTO:+0200
TZNAME:CEST
DTSTART:20270328T010000
END:DAYLIGHT
BEGIN:STANDARD
TZOFFSETFROM:+0200
TZOFFSETTO:+0100
TZNAME:CET
DTSTART:20271031T010000
END:STANDARD
END:VTIMEZONE
BEGIN:VEVENT
DTSTART;TZID=Europe/Berlin:20260307T080000
DTEND;TZID=Europe/Berlin:20260307T130000
DTSTAMP:20260421T103508
CREATED:20251222T125324Z
LAST-MODIFIED:20251222T125328Z
UID:8292-1772870400-1772888400@zrc-online.de
SUMMARY:Frühjahrsputz
DESCRIPTION:
URL:https://zrc-online.de/event/fruehjahrsputz-4
LOCATION:Zschornewitzer Ruderclub\, Pöplitzer Weg 49\, Zschornewitz\, Sachsen-Anhalt\, Deutschland
CATEGORIES:sonstige Veranstaltung
END:VEVENT
END:VCALENDAR